BEGIN:VCALENDAR
VERSION:2.0
PRODID:-//Iraqi Association - ECPv6.15.20//NONSGML v1.0//EN
CALSCALE:GREGORIAN
METHOD:PUBLISH
X-WR-CALNAME:Iraqi Association
X-ORIGINAL-URL:https://www.iraqiassociation.co.uk
X-WR-CALDESC:Events for Iraqi Association
REFRESH-INTERVAL;VALUE=DURATION:PT1H
X-Robots-Tag:noindex
X-PUBLISHED-TTL:PT1H
BEGIN:VTIMEZONE
TZID:Europe/London
BEGIN:DAYLIGHT
TZOFFSETFROM:+0000
TZOFFSETTO:+0100
TZNAME:BST
DTSTART:20220327T010000
END:DAYLIGHT
BEGIN:STANDARD
TZOFFSETFROM:+0100
TZOFFSETTO:+0000
TZNAME:GMT
DTSTART:20221030T010000
END:STANDARD
BEGIN:DAYLIGHT
TZOFFSETFROM:+0000
TZOFFSETTO:+0100
TZNAME:BST
DTSTART:20230326T010000
END:DAYLIGHT
BEGIN:STANDARD
TZOFFSETFROM:+0100
TZOFFSETTO:+0000
TZNAME:GMT
DTSTART:20231029T010000
END:STANDARD
BEGIN:DAYLIGHT
TZOFFSETFROM:+0000
TZOFFSETTO:+0100
TZNAME:BST
DTSTART:20240331T010000
END:DAYLIGHT
BEGIN:STANDARD
TZOFFSETFROM:+0100
TZOFFSETTO:+0000
TZNAME:GMT
DTSTART:20241027T010000
END:STANDARD
BEGIN:DAYLIGHT
TZOFFSETFROM:+0000
TZOFFSETTO:+0100
TZNAME:BST
DTSTART:20250330T010000
END:DAYLIGHT
BEGIN:STANDARD
TZOFFSETFROM:+0100
TZOFFSETTO:+0000
TZNAME:GMT
DTSTART:20251026T010000
END:STANDARD
BEGIN:DAYLIGHT
TZOFFSETFROM:+0000
TZOFFSETTO:+0100
TZNAME:BST
DTSTART:20260329T010000
END:DAYLIGHT
BEGIN:STANDARD
TZOFFSETFROM:+0100
TZOFFSETTO:+0000
TZNAME:GMT
DTSTART:20261025T010000
END:STANDARD
END:VTIMEZONE
BEGIN:VEVENT
DTSTART;TZID=Europe/London:20251219T190000
DTEND;TZID=Europe/London:20251219T230000
DTSTAMP:20260423T185545
CREATED:20251208T124040Z
LAST-MODIFIED:20251208T124457Z
UID:10983-1766170800-1766185200@www.iraqiassociation.co.uk
SUMMARY:حفل ساهر بمناسبة أعياد الميلاد ورأس السنة
DESCRIPTION:
URL:https://www.iraqiassociation.co.uk/event/%d8%ad%d9%81%d9%84-%d8%b3%d8%a7%d9%87%d8%b1-%d8%a8%d9%85%d9%86%d8%a7%d8%b3%d8%a8%d8%a9-%d8%a3%d8%b9%d9%8a%d8%a7%d8%af-%d8%a7%d9%84%d9%85%d9%8a%d9%84%d8%a7%d8%af-%d9%88%d8%b1%d8%a3%d8%b3-%d8%a7%d9%84/
LOCATION:POSK\, 238-246 King Street\, Hammersmith\, London\, W6 0RF\, United Kingdom
CATEGORIES:Upcoming Events
ATTACH;FMTTYPE=image/png:https://www.iraqiassociation.co.uk/wp-content/uploads/2025/12/IA-Matti-Event-2025-FB-AR.png
ORGANIZER;CN="Iraqi Association":MAILTO:admin@iraqiassociation.co.uk
END:VEVENT
BEGIN:VEVENT
DTSTART;TZID=Europe/London:20251009T180000
DTEND;TZID=Europe/London:20251009T193000
DTSTAMP:20260423T185545
CREATED:20251001T143742Z
LAST-MODIFIED:20251208T122653Z
UID:10973-1760032800-1760038200@www.iraqiassociation.co.uk
SUMMARY:قوانين وإجراءات الهجرة واللجوء 2025
DESCRIPTION:
URL:https://www.iraqiassociation.co.uk/event/%d9%82%d9%88%d8%a7%d9%86%d9%8a%d9%86-%d9%88%d8%a5%d8%ac%d8%b1%d8%a7%d8%a1%d8%a7%d8%aa-%d8%a7%d9%84%d9%87%d8%ac%d8%b1%d8%a9-%d9%88%d8%a7%d9%84%d9%84%d8%ac%d9%88%d8%a1-2025/
LOCATION:Rivercourt Methodist Church\, King Street\, London\, W6 9JT
CATEGORIES:Past Events
ATTACH;FMTTYPE=image/png:https://www.iraqiassociation.co.uk/wp-content/uploads/2025/10/Event-cover-Oct25.png
ORGANIZER;CN="Iraqi Association":MAILTO:admin@iraqiassociation.co.uk
END:VEVENT
BEGIN:VEVENT
DTSTART;TZID=Europe/London:20250403T180000
DTEND;TZID=Europe/London:20250403T200000
DTSTAMP:20260423T185545
CREATED:20250318T114830Z
LAST-MODIFIED:20251208T122636Z
UID:10378-1743703200-1743710400@www.iraqiassociation.co.uk
SUMMARY:حكايات سومرية وأكدية خالدة
DESCRIPTION:  \nPhoto by Sailko on Wikimedia Commons
URL:https://www.iraqiassociation.co.uk/event/%d8%ad%d9%83%d8%a7%d9%8a%d8%a7%d8%aa-%d8%b3%d9%88%d9%85%d8%b1%d9%8a%d8%a9-%d9%88%d8%a3%d9%83%d8%af%d9%8a%d8%a9-%d8%ae%d8%a7%d9%84%d8%af%d8%a9/
LOCATION:Rivercourt Methodist Church\, King Street\, London\, W6 9JT
CATEGORIES:Past Events
ATTACH;FMTTYPE=image/jpeg:https://www.iraqiassociation.co.uk/wp-content/uploads/2025/03/Enheduana-Cover.jpg
ORGANIZER;CN="Iraqi Association":MAILTO:admin@iraqiassociation.co.uk
END:VEVENT
BEGIN:VEVENT
DTSTART;TZID=Europe/London:20250219T140000
DTEND;TZID=Europe/London:20250219T160000
DTSTAMP:20260423T185545
CREATED:20250224T134831Z
LAST-MODIFIED:20250224T134831Z
UID:10329-1739973600-1739980800@www.iraqiassociation.co.uk
SUMMARY:ورشة عمل علوم للأطفال (6-10 سنة)
DESCRIPTION:ينظم المنتدى العراقي وبالتعاون مع منظمة Native Scientists \nورشة لأطفال أبناء الجالية العراقية (وغيرهم من الناطقين باللغة العربية) \n\nيوم الأربعاء 19 شباط 2025 (خلال عطلة المدارس في شباط) \nالساعة 2 بعد الظهر \n\nفي منطقة  (White City)غرب لندن \n\n***  التسجيل ضروري  *** \nولمزيد من المعلومات و التسجيل يرجى الاتصال بـ (ريا) على رقم المنتدى  02070232650 \n\n(Native Scientists) هي منظمة غير ربحية تعمل على مستوى أوروبا، تربط بين الطلاب والعلماء للاحتفاء بالتنوع الثقافي وتعزيز تعليم اللغة والعلوم. \nحيث تربط العلماء مع المدارس المحلية في جميع أنحاء أوروبا لتنفيذ ورش عمل علمية ولغوية فريدة وديناميكية مع أطفال من نفس الخلفية الثقافية، \nلتوسيع الآفاق وتعزيز الثقافة العلمية والتعليم العالي، وتعزيز تنمية اللغة.
URL:https://www.iraqiassociation.co.uk/event/%d9%88%d8%b1%d8%b4%d8%a9-%d8%b9%d9%85%d9%84-%d8%b9%d9%84%d9%88%d9%85-%d9%84%d9%84%d8%a3%d8%b7%d9%81%d8%a7%d9%84-6-10-%d8%b3%d9%86%d8%a9/
LOCATION:Invention Rooms\, Invention Rooms\, London\, W12 7TA
CATEGORIES:Past Events
ATTACH;FMTTYPE=image/png:https://www.iraqiassociation.co.uk/wp-content/uploads/2025/02/NSxIA-Feb-2025.png
ORGANIZER;CN="Iraqi Association":MAILTO:admin@iraqiassociation.co.uk
END:VEVENT
BEGIN:VEVENT
DTSTART;TZID=Europe/London:20241018T183000
DTEND;TZID=Europe/London:20241018T200000
DTSTAMP:20260423T185545
CREATED:20241011T132133Z
LAST-MODIFIED:20250224T134312Z
UID:10307-1729276200-1729281600@www.iraqiassociation.co.uk
SUMMARY:الفيلم الفلسطيني (200 متر) في نادي السينما
DESCRIPTION:الفيلم الفلسطيني (200 متر) في نادي السينما العراقي \nونحن نعيش في خضم الاوضاع الخطيرة التي تمر بها منطقة الشرق الاوسط في ظل الحروب العدوانية التي يشنها الكيان الصهيوني في غزة ولبنان، يدعوكم نادي السينما العراقي بلندن لحضور عرض الفيلم الفلسطيني (200 متر) يوم الجمعة 18 تشرين الاول/اكتوبر 2024 الساعة السادسة والنصف على قاعة كنيسة ريفركورت في همرسمث. \nالفيلم من انتاج عام 2020، كتبه واخرجه المخرج الفلسطيني الشاب امين نايفة، معتمدا على قصة حقيقية، ولا بد من الإشارة إلى الأداء التمثيلي المذهل لجميع أبطال الفيلم، لاسيما علي سليمان ولانا زريق (مصطفى وزوجته سلمى). كما يحوّل الفيلم جدار الفصل العنصري إلى إحدى شخصيات الفيلم الرئيسية الشريرة.  يحكي الفيلم قصة مصطفى وزوجته سلوى ، وهما من قريتين فلسطينيتين لا تفصل بينهما سوى 200 متر، لكنهما منفصلان بجدار الفصل العنصري. بدأ وضعهما المعيشي غير المعتاد يؤثر على زواجهما السعيد، لكن الزوجين يفعلان ما بوسعهما لإنجاحه. كل ليلة، يضيء مصطفى ضوءًا من شرفته ليتمنى لأطفاله على الجانب الآخر ليلة سعيدة، فيرسلون له إشارة للعودة. \nحصد الفيلم على عدة جوائز بينها  جائزة مهرجان الجونة السينمائي، وجائزة الجمهور في مهرجان فينيسيا، إضافةً إلى جائزة أفضل فيلم روائي طويل ضمن فعاليات الدورة الأولى من مهرجان القدس للسينما العربية.
URL:https://www.iraqiassociation.co.uk/event/%d8%a7%d9%84%d9%81%d9%8a%d9%84%d9%85-%d8%a7%d9%84%d9%81%d9%84%d8%b3%d8%b7%d9%8a%d9%86%d9%8a-200-%d9%85%d8%aa%d8%b1-%d9%81%d9%8a-%d9%86%d8%a7%d8%af%d9%8a-%d8%a7%d9%84%d8%b3%d9%8a%d9%86%d9%85%d8%a7/
LOCATION:Hammersmith\, Rivercourt Methodist Church\, London\, W6 9JT
CATEGORIES:Past Events
ATTACH;FMTTYPE=image/jpeg:https://www.iraqiassociation.co.uk/wp-content/uploads/2024/10/2-200-متر.jpg
ORGANIZER;CN="Iraqi Association":MAILTO:admin@iraqiassociation.co.uk
END:VEVENT
BEGIN:VEVENT
DTSTART;TZID=Europe/London:20240918T183000
DTEND;TZID=Europe/London:20240918T200000
DTSTAMP:20260423T185545
CREATED:20240926T123005Z
LAST-MODIFIED:20240926T144433Z
UID:10068-1726684200-1726689600@www.iraqiassociation.co.uk
SUMMARY:كورال أكاديمية الفنون والتراث العربي
DESCRIPTION:يستضيف المنتدى العراقي في بريطانيا \nكورال أكاديمية الفنون والتراث العربي \nفي أمسية يقدم فيها مجموعة من الاغاني من التراث العربي وعرض مقتطفات من الحفل الكبير الذي اقيم على مسرح الباربيكان في لندن \nواستعراض لنشاطات الكورال من قبل ادارة الاكاديمية المتمثلة \nبالفنان التشكيلي باسم مهدي والمخرجة زينب الجواري \nوحديث للمايسترو بيير خوام عن برنامج الكورال القادم
URL:https://www.iraqiassociation.co.uk/event/%d9%83%d9%88%d8%b1%d8%a7%d9%84-%d8%a3%d9%83%d8%a7%d8%af%d9%8a%d9%85%d9%8a%d8%a9-%d8%a7%d9%84%d9%81%d9%86%d9%88%d9%86-%d9%88%d8%a7%d9%84%d8%aa%d8%b1%d8%a7%d8%ab-%d8%a7%d9%84%d8%b9%d8%b1%d8%a8%d9%8a/
LOCATION:Hammersmith\, Rivercourt Methodist Church\, London\, W6 9JT
CATEGORIES:Past Events
ATTACH;FMTTYPE=image/jpeg:https://www.iraqiassociation.co.uk/wp-content/uploads/2024/09/IA-x-كورال-جمعية-التراث.jpg
ORGANIZER;CN="Iraqi Association":MAILTO:admin@iraqiassociation.co.uk
END:VEVENT
BEGIN:VEVENT
DTSTART;TZID=Europe/London:20240118T183000
DTEND;TZID=Europe/London:20240118T200000
DTSTAMP:20260423T185545
CREATED:20240926T123801Z
LAST-MODIFIED:20260213T155048Z
UID:10073-1705602600-1705608000@www.iraqiassociation.co.uk
SUMMARY:ظاهرة التحضر في العراق
DESCRIPTION:(Photo via Getty Images: a residential neighbourhood in Iraq’s capital Baghdad on Aug.27\, 2021)
URL:https://www.iraqiassociation.co.uk/event/%d8%b8%d8%a7%d9%87%d8%b1%d8%a9-%d8%a7%d9%84%d8%aa%d8%ad%d8%b6%d8%b1-%d9%81%d9%8a-%d8%a7%d9%84%d8%b9%d8%b1%d8%a7%d9%82/
LOCATION:Hammersmith\, Rivercourt Methodist Church\, London\, W6 9JT
CATEGORIES:Past Events
ATTACH;FMTTYPE=image/jpeg:https://www.iraqiassociation.co.uk/wp-content/uploads/2024/09/image1.jpg
ORGANIZER;CN="Iraqi Association":MAILTO:admin@iraqiassociation.co.uk
END:VEVENT
BEGIN:VEVENT
DTSTART;TZID=Europe/London:20231019T183000
DTEND;TZID=Europe/London:20231019T200000
DTSTAMP:20260423T185545
CREATED:20240926T125419Z
LAST-MODIFIED:20240926T144518Z
UID:10085-1697740200-1697745600@www.iraqiassociation.co.uk
SUMMARY:خالد القشــطيني
DESCRIPTION:يحتفي المنتدى العراقي في بريطانيا بأمسية استذكارية \nبالصحافي والكاتب الساخر الفقيد \nخالد القشــطيني \nالذي غادرنا فجر يوم 5 حزيران 2023، عن عمر ناهز الـ 94 عاماً \nيتحدث فيها عن حياته الابداعية فنا وادبا \nالسيد نائل القشطيني عن عائلته  \nوالكاتب والصحافي منعم الأعسم \nوالفنان التشكيلي فيصل لعيبي \nيدير الأمسية \nالأستاذ صادق الطائي
URL:https://www.iraqiassociation.co.uk/event/%d8%ae%d8%a7%d9%84%d8%af-%d8%a7%d9%84%d9%82%d8%b4%d9%80%d9%80%d8%b7%d9%8a%d9%86%d9%8a/
LOCATION:Hammersmith\, Rivercourt Methodist Church\, London\, W6 9JT
CATEGORIES:Past Events
ATTACH;FMTTYPE=image/jpeg:https://www.iraqiassociation.co.uk/wp-content/uploads/2024/09/Khalid-BW-pic.jpeg
END:VEVENT
END:VCALENDAR